BEGIN:VCALENDAR
VERSION:2.0
PRODID:-//hacksw/handcal//NONSGML v1.0//EN
CALSCALE:GREGORIAN
BEGIN:VEVENT
LOCATION:
DESCRIPTION:Cette conférence présentera Madame Larbaud en tant que personnage, mettant en lumière certains aspects de...
DTSTART:20260424T170000
DTEND:20260425
SUMMARY:Conférence https://www.facebook.com/SHAVICHY : « Madame Larbaud, un personnage », par Mme Christine Chaze.
URL;VALUE=URI:https://www.ville-vichy.fr/agenda/conference-https-www-facebook-com-shavichy-madame-larbaud-un-personnage-par-mme-christine-chaze/
DTSTAMP:20260423T143811
UID:69ea2ed34a485
END:VEVENT
END:VCALENDAR