BEGIN:VCALENDAR
VERSION:2.0
PRODID:-//hacksw/handcal//NONSGML v1.0//EN
CALSCALE:GREGORIAN
BEGIN:VEVENT
LOCATION:
DESCRIPTION:Conférence proposée par Georges Nieto De grands mouvements se déroulent sous nos yeux qui transforment...
DTSTART:20260422T181500
DTEND:20260422T200000
SUMMARY:Conférence « Le basculement du monde »
URL;VALUE=URI:https://www.ville-vichy.fr/agenda/conference-le-basculement-du-monde/
DTSTAMP:20260421T124813
UID:69e7720d81ded
END:VEVENT
END:VCALENDAR