BEGIN:VCALENDAR
VERSION:2.0
PRODID:-//hacksw/handcal//NONSGML v1.0//EN
CALSCALE:GREGORIAN
BEGIN:VEVENT
LOCATION:
DESCRIPTION:Conférence proposée par Jean Rolin, Ingénieur INSA émérite Le changement climatique est constaté par les...
DTSTART:20260420T173000
DTEND:20260420T190000
SUMMARY:Conférence : « Vignes, vins en bio et biodynamie, changement climatique »
URL;VALUE=URI:https://www.ville-vichy.fr/agenda/conference-vignes-vins-en-bio-et-biodynamie-changement-climatique/
DTSTAMP:20260420T031143
UID:69e5996f07061
END:VEVENT
END:VCALENDAR