BEGIN:VCALENDAR
VERSION:2.0
PRODID:-//hacksw/handcal//NONSGML v1.0//EN
CALSCALE:GREGORIAN
BEGIN:VEVENT
LOCATION:
DESCRIPTION:Dans l’écrin intimiste du Chalet des Roses, monument historique privé de Vichy, « Lascia la spina »...
DTSTART:20260418T193000
DTEND:20260419T205000
SUMMARY:Lascia la spina
URL;VALUE=URI:https://www.ville-vichy.fr/?post_type=event&p=11894
DTSTAMP:20260420T032439
UID:69e59c778d910
END:VEVENT
END:VCALENDAR