BEGIN:VCALENDAR
VERSION:2.0
PRODID:-//hacksw/handcal//NONSGML v1.0//EN
CALSCALE:GREGORIAN
BEGIN:VEVENT
LOCATION:
DESCRIPTION:Plongez dans l’univers d’un symbole gourmand de Vichy en partant à la découverte de la...
DTSTART:20260407
DTEND:20260703
SUMMARY:Visite guidée de « La Pastillerie de Vichy »
URL;VALUE=URI:https://www.ville-vichy.fr/agenda/visite-guidee-de-la-pastillerie-de-vichy/
DTSTAMP:20260419T132907
UID:69e4d8a389d1f
END:VEVENT
END:VCALENDAR